BEGIN:VCALENDAR
VERSION:2.0
PRODID:-//wp-events-plugin.com//7.2.3.1//EN
TZID:Australia/Melbourne
X-WR-TIMEZONE:Australia/Melbourne
BEGIN:VEVENT
UID:17265@home-ed.vic.edu.au
DTSTART;TZID=Australia/Melbourne:20251124T111500
DTEND;TZID=Australia/Melbourne:20251124T121500
DTSTAMP:20251008T104006Z
URL:https://home-ed.vic.edu.au/events/kelly-sports-homeschool-sports-dande
 nong-5/
SUMMARY:Kelly Sports Homeschool Sports (Dandenong)
DESCRIPTION:Kelly Sports Homeschool Sports\nProgram runs weekly on one day 
 a week for one hour.\nThis term we will focus on the following sports:\n\n
  	Soccer\n 	Netball (1wk)\n 	Hockey\n 	Cricket\n\nThis weekly program give
 s children skills and confidence in a fun and enjoyable environment. It al
 so encourages their enthusiasm for sport and the life skills that such inv
 olvement brings – giving them confidence to join sports clubs and teams 
 in the future. For Home School Students aged 5 - 13 years (children will b
 e grouped by age)\n\n$105 FOR A 7 WEEK PROGRAM\nSign up anytime and only p
 ay for the weeks remaining in the term.\n\nLocation: Gloria Pyke Netball C
 omplex\, 2-20 Bennet St\, Dandenong\nStart Day: Monday 20th October 2025\n
 End Date: 8th December 2025\nTime: 11:15am - 12:15pm\n\nNo session Nov 3rd
  due to Melbourne\nCup Day Weekend\n\nBOOKINGS / CONTACT:  Paul Kalweit -
  0413 080 025 | paulbattershill@kellysports.com.au\n\n\n\n&nbsp\;
ATTACH;FMTTYPE=image/jpeg:https://home-ed.vic.edu.au/wp-content/uploads/20
 25/10/2025-KellySportsInfo.jpg
CATEGORIES:Regular Classes
LOCATION:Gloria Pyke Netball Complex\, Bennet Street\, Dandenong\, VIC\, 31
 75\, Australia
GEO:-37.987554;145.199403
X-APPLE-STRUCTURED-LOCATION;VALUE=URI;X-ADDRESS=Bennet Street\, Dandenong\,
  VIC\, 3175\, Australia;X-APPLE-RADIUS=100;X-TITLE=Gloria Pyke Netball Com
 plex:geo:-37.987554,145.199403
END:VEVENT
BEGIN:VTIMEZONE
TZID:Australia/Melbourne
X-LIC-LOCATION:Australia/Melbourne
BEGIN:DAYLIGHT
DTSTART:20251005T030000
TZOFFSETFROM:+1000
TZOFFSETTO:+1100
TZNAME:AEDT
END:DAYLIGHT
END:VTIMEZONE
END:VCALENDAR