BEGIN:VCALENDAR
VERSION:2.0
PRODID:-//wp-events-plugin.com//7.2.3.1//EN
TZID:Australia/Melbourne
X-WR-TIMEZONE:Australia/Melbourne
BEGIN:VEVENT
UID:17427@home-ed.vic.edu.au
DTSTART;TZID=Australia/Melbourne:20260213T130000
DTEND;TZID=Australia/Melbourne:20260213T143000
DTSTAMP:20260211T092844Z
URL:https://home-ed.vic.edu.au/events/kids-can-sew-too-kids-beginner-sewin
 g-classes-footscray/
SUMMARY:Kids Can Sew Too! Kids Beginner Sewing Classes (Footscray)
DESCRIPTION:Kids Can Sew Too! Kids Beginner Sewing Classes\nCreative\, six-
 week courses for girls\, boys and non binary kids who want to learn to sew
 .\nFor school age children (8 yrs and upwards ) who are new to sewing.\n\n
 $300 per course\n\nWHEN: Friday February 13\, 20\, 27\, March 6\, 13 &amp\
 ; 20\n\nTIME: 1pm-2.30pm\n\nWHERE: SOSU | school of sewing and upcycling\n
 1/1-3 Whitehall St Footscray VIC 3011\n\nCONTACT: Zoe Gymer-Waldron - sosu
 @schoolofsewingandupcycling.com.au\n\nBOOKINGS: https://schoolofsewingandu
 pcycling.com.au/product/kids-homeschool-sewing-classes-term-1-2026/
ATTACH;FMTTYPE=image/jpeg:https://home-ed.vic.edu.au/wp-content/uploads/20
 26/02/2026-SOSU.jpg
CATEGORIES:Regular Classes
LOCATION:School Of Sewing & Upcycling\, 1/1-3 Whitehall St \, Footscray\, V
 IC\, Australia
GEO:-37.801768;144.906288
X-APPLE-STRUCTURED-LOCATION;VALUE=URI;X-ADDRESS=1/1-3 Whitehall St \, Foots
 cray\, VIC\, Australia;X-APPLE-RADIUS=100;X-TITLE=School Of Sewing & Upcyc
 ling:geo:-37.801768,144.906288
END:VEVENT
BEGIN:VTIMEZONE
TZID:Australia/Melbourne
X-LIC-LOCATION:Australia/Melbourne
BEGIN:DAYLIGHT
DTSTART:20251005T030000
TZOFFSETFROM:+1000
TZOFFSETTO:+1100
TZNAME:AEDT
END:DAYLIGHT
END:VTIMEZONE
END:VCALENDAR