BEGIN:VCALENDAR
VERSION:2.0
PRODID:-//wp-events-plugin.com//7.2.3.1//EN
TZID:Australia/Melbourne
X-WR-TIMEZONE:Australia/Melbourne
BEGIN:VEVENT
UID:17277@home-ed.vic.edu.au
DTSTART;TZID=Australia/Melbourne:20251201T103000
DTEND;TZID=Australia/Melbourne:20251201T130000
DTSTAMP:20251014T072106Z
URL:https://home-ed.vic.edu.au/events/kids-roar-personal-safety-workshop-h
 oppers-crossing/
SUMMARY:Kids Roar - Personal Safety Workshop (Hoppers Crossing)
DESCRIPTION:Wyndham Youth Services is offering a 2.5 hour Kids Roar worksho
 p for 10-15 year olds. Parents/guardians are also welcome.\nThe program is
  taught in schools\, we are running a public session to ensure home-educat
 ed young people also have access to this important information about (in p
 erson and online) personal safety.\n\nDate: Monday 1st December\nTime: 10:
 30am - 1pm\nLocation: Youth Services\, 86 Derrimut Rd\, Hoppers Crossing\n
 Cost: Free. Snacks and drinks provided (not lunch)\n\n10-15 is a pivotal a
 ge in the development of relationships\, in person and online\, that are r
 espectful and safe. The ‘We Can ROAR’ Workshop uses a critical thinkin
 g approach to recognise\, identify and report bullying and unsafe behaviou
 r within relationships and online. The workshop teaches students their leg
 al responsibilities\, the importance of consent and promotes positive rela
 tionships.\n\nTopics include:\n\n 	Respect and Consent\n 	Personal Safety\
 n 	Understanding the Law\n\n\nBOOKINGS: https://www.trybooking.com/events/
 landing/1485801 \n\nWEBSITE: https://www.roaraustralia.edu.au/kidsroar/
ATTACH;FMTTYPE=image/jpeg:https://home-ed.vic.edu.au/wp-content/uploads/20
 25/10/2025-KidsRoar.jpg
CATEGORIES:Regular Classes
LOCATION:The Youth Services\, 86 Derrimut Rd\, Hoppers Crossing\, VIC\, 302
 9\, Australia
GEO:-37.881946;144.682965
X-APPLE-STRUCTURED-LOCATION;VALUE=URI;X-ADDRESS=86 Derrimut Rd\, Hoppers Cr
 ossing\, VIC\, 3029\, Australia;X-APPLE-RADIUS=100;X-TITLE=The Youth Servi
 ces:geo:-37.881946,144.682965
END:VEVENT
BEGIN:VTIMEZONE
TZID:Australia/Melbourne
X-LIC-LOCATION:Australia/Melbourne
BEGIN:DAYLIGHT
DTSTART:20251005T030000
TZOFFSETFROM:+1000
TZOFFSETTO:+1100
TZNAME:AEDT
END:DAYLIGHT
END:VTIMEZONE
END:VCALENDAR