BEGIN:VCALENDAR
VERSION:2.0
PRODID:-//wp-events-plugin.com//7.2.3.1//EN
TZID:Australia/Melbourne
X-WR-TIMEZONE:Australia/Melbourne
BEGIN:VEVENT
UID:17446@home-ed.vic.edu.au
DTSTART;TZID=Australia/Melbourne:20260303T143000
DTEND;TZID=Australia/Melbourne:20260303T160000
DTSTAMP:20260226T062554Z
URL:https://home-ed.vic.edu.au/events/lego-chess-club-brick-evolution-lego
 -store-cheltenham/
SUMMARY:Lego Chess Club @ Brick Evolution Lego Store (Cheltenham)
DESCRIPTION:Lego Chess Club @ Brick Evolution Lego Store (Cheltenham)\nAll 
 Lego materials provided\, suitable for primary school aged home schooled c
 hildren.\n\nChildren will build their own chess set and pieces from Lego\,
  they can either build a whole chess board or half of one\, then two halve
 s can be clicked together to play chess.\n\nCost: $74.94 (plus optional if
  you want to take the chess board home about $20 just for the pieces)\n\nW
 HEN: Tuesdays March 3\, March 10 and March 17\nTIME: 2:30pm - 4pm\n\nCONTA
 CT: Brick Evolution Lego Store\, 2/347 Bay Road\, Cheltenham\n0414258552\n
 lego@brickevolution.au\n\nBOOKINGS / MORE INFO: https://www.eventbrite.com
 .au/e/home-school-lego-chess-club-3-weeks-tuesdays-230-4-tickets-198333033
 3417 
ATTACH;FMTTYPE=image/jpeg:https://home-ed.vic.edu.au/wp-content/uploads/20
 26/02/2026-Lego-Chess.jpg
CATEGORIES:Regular Classes
LOCATION:Brick Evolution Lego Store\, 2/347 Bay Road\, Cheltenham\, Austral
 ia
GEO:-37.955676;145.041071
X-APPLE-STRUCTURED-LOCATION;VALUE=URI;X-ADDRESS=2/347 Bay Road\, Cheltenham
 \, Australia;X-APPLE-RADIUS=100;X-TITLE=Brick Evolution Lego Store:geo:-37
 .955676,145.041071
END:VEVENT
BEGIN:VTIMEZONE
TZID:Australia/Melbourne
X-LIC-LOCATION:Australia/Melbourne
BEGIN:DAYLIGHT
DTSTART:20251005T030000
TZOFFSETFROM:+1000
TZOFFSETTO:+1100
TZNAME:AEDT
END:DAYLIGHT
END:VTIMEZONE
END:VCALENDAR