BEGIN:VCALENDAR
VERSION:2.0
PRODID:-//wp-events-plugin.com//7.2.3.1//EN
TZID:Australia/Melbourne
X-WR-TIMEZONE:Australia/Melbourne
BEGIN:VEVENT
UID:17295@home-ed.vic.edu.au
DTSTART;TZID=Australia/Melbourne:20260129T093000
DTEND;TZID=Australia/Melbourne:20260129T120000
DTSTAMP:20251209T004221Z
URL:https://home-ed.vic.edu.au/events/little-cabbages-childrens-studio-ter
 m-based-weekly-program-ringwood/
SUMMARY:Little Cabbages Children’s Studio - term based weekly program (Ri
 ngwood)
DESCRIPTION:Little Cabbages Children’s Studio\nTerm based weekly program 
 starting Thursday 29th January 2026.\n\n\nAt Little Cabbages\, learning fe
 els like home.\nChildren spend their days surrounded by creativity\, kindn
 ess\, and calm. Artistic expression\, cooking\, exploring\, and playing. A
 ctivities change from week to week based on materials and children's inter
 ests.\n\nOur small groups offer consistent social connections in a safe\, 
 neuro-affirming environment held by a qualified\, experienced teacher who 
 has stepped out of the system.\n\nThrough process art\, open ended play\, 
 and gentle structure with firm but kind boundaries\, children are free to 
 play deeply\, think curiously\, and grow confidently.\nParents are welcome
  to join in the activities with their children\, and many enjoy making art
 \, but you are not expected to lead or assist with activities.\n\nSession 
 times:\n\n🌿 Play &amp\; Explore: Thursdays 9:30–2:30 (ages 3–12)\n\
 n🌿 Think &amp\; Create: Mondays 9:30–12:00 (ages 7–12)\n\n 	open-en
 ded process art\n 	optional small group games\n 	collaborative building or
  making projects\n 	gentle social interaction\n\nWith another day each wee
 k TBC.\n\nCONTACT: Sally Robinson | sally@littlecabbages.com\n\nMore Infor
 mation: https://littlecabbages.com/homeschool-programs 
ATTACH;FMTTYPE=image/jpeg:https://home-ed.vic.edu.au/wp-content/uploads/20
 25/12/2026-Little-Cabbages-Logo.jpg
CATEGORIES:Regular Classes
LOCATION:Little Cabbages\, Hendra Grove\, Ringwood \, Australia
GEO:-37.79682;145.243468
X-APPLE-STRUCTURED-LOCATION;VALUE=URI;X-ADDRESS=Hendra Grove\, Ringwood \, 
 Australia;X-APPLE-RADIUS=100;X-TITLE=Little Cabbages:geo:-37.79682,145.243
 468
END:VEVENT
BEGIN:VTIMEZONE
TZID:Australia/Melbourne
X-LIC-LOCATION:Australia/Melbourne
BEGIN:DAYLIGHT
DTSTART:20251005T030000
TZOFFSETFROM:+1000
TZOFFSETTO:+1100
TZNAME:AEDT
END:DAYLIGHT
END:VTIMEZONE
END:VCALENDAR