BEGIN:VCALENDAR
VERSION:2.0
PRODID:-//wp-events-plugin.com//7.2.3.1//EN
TZID:Australia/Melbourne
X-WR-TIMEZONE:Australia/Melbourne
BEGIN:VEVENT
UID:16862@home-ed.vic.edu.au
DTSTART;TZID=Australia/Melbourne:20260222T120000
DTEND;TZID=Australia/Melbourne:20260227T120000
DTSTAMP:20250410T235657Z
URL:https://home-ed.vic.edu.au/events/lorne-2026-camp/
SUMMARY:Lorne 2026 camp
DESCRIPTION:February 22nd to February 27th 2026\n\nPay for your camp site t
 hrough the caravan park\, say your with the hs camp and get a 10% discount
  \n\nBring your camping gear or caravan. There will be free activities dai
 ly for people to come and go as they please all ages.\nOther options to br
 ing at your own leisure\nFishing rods\nSurf and boggy boards\nBeach toys\n
 Ball games\nBikes or scooters \n\nKim and josh oosterlaan\, Facebook messe
 nger or email kimmy.vando92@hotmail.com\n\nLorne foreshore caravan park to
 p bank 
CATEGORIES:Special Events
LOCATION:Lorne Foreshore Caravan Park\, 2 Great Ocean Road\, Lorne\, Victor
 ia\, Australia
GEO:-38.5356;143.974235
X-APPLE-STRUCTURED-LOCATION;VALUE=URI;X-ADDRESS=2 Great Ocean Road\, Lorne\
 , Victoria\, Australia;X-APPLE-RADIUS=100;X-TITLE=Lorne Foreshore Caravan 
 Park:geo:-38.5356,143.974235
END:VEVENT
BEGIN:VTIMEZONE
TZID:Australia/Melbourne
X-LIC-LOCATION:Australia/Melbourne
BEGIN:DAYLIGHT
DTSTART:20251005T030000
TZOFFSETFROM:+1000
TZOFFSETTO:+1100
TZNAME:AEDT
END:DAYLIGHT
END:VTIMEZONE
END:VCALENDAR