BEGIN:VCALENDAR
VERSION:2.0
PRODID:-//wp-events-plugin.com//7.2.3.1//EN
TZID:Australia/Melbourne
X-WR-TIMEZONE:Australia/Melbourne
BEGIN:VEVENT
UID:17376@home-ed.vic.edu.au
DTSTART;TZID=Australia/Melbourne:20260330T130000
DTEND;TZID=Australia/Melbourne:20260330T150000
DTSTAMP:20260120T234319Z
URL:https://home-ed.vic.edu.au/events/mid-day-connect-12-24yo-frankston-so
 uth-8/
SUMMARY:Mid-Day Connect (12-24yo) (Frankston South)
DESCRIPTION:Mid Day Hangout (FREE) - Last one for Term 1\nLooking for a lai
 d-back place to spend time during the week? If you’re home-schooled\, ha
 ving a break day\, or following a different learning pathway\, come along 
 to Mid-Day Connect.\n\nKick back on comfy couches or bean bags\, jump into
  games\, get creative with art supplies\, or challenge friends to pool or 
 board games. There are also free snacks and healthy food available.\n\nOur
  friendly youth workers are always around.\n\nEvery Monday of Term 1 excep
 t Australia Day &amp\; Labour Day\nFeb 2\, Feb 9\, Feb 16\, Feb 23\nMar 2\
 , Mar 16\, Mar 23 &amp\; Mar 30\n\nTime: 1pm-3pm\nWhere: Frankston South C
 ommunity and Recreation Centre\nUnit 2/55 Towerhill Rd\, Frankston South\n
 \n\nMORE INFO:\nPlease call Youth Services on 9768 1366\nWebsite: https://
 www.frankston.vic.gov.au/Things-To-Do/Frankston-Youth-Services
ATTACH;FMTTYPE=image/jpeg:https://home-ed.vic.edu.au/wp-content/uploads/20
 26/01/2026-Mid-Day-Connect.jpg
CATEGORIES:Regular Classes
LOCATION:Frankston South Community and Recreation Centre\, Unit 2/55 Towerh
 ill Rd\, Frankston South\, VIC\, 3199\, Australia
GEO:-38.161121;145.127254
X-APPLE-STRUCTURED-LOCATION;VALUE=URI;X-ADDRESS=Unit 2/55 Towerhill Rd\, Fr
 ankston South\, VIC\, 3199\, Australia;X-APPLE-RADIUS=100;X-TITLE=Franksto
 n South Community and Recreation Centre:geo:-38.161121,145.127254
END:VEVENT
BEGIN:VTIMEZONE
TZID:Australia/Melbourne
X-LIC-LOCATION:Australia/Melbourne
BEGIN:DAYLIGHT
DTSTART:20251005T030000
TZOFFSETFROM:+1000
TZOFFSETTO:+1100
TZNAME:AEDT
END:DAYLIGHT
END:VTIMEZONE
END:VCALENDAR