BEGIN:VCALENDAR
VERSION:2.0
PRODID:-//wp-events-plugin.com//7.2.3.1//EN
TZID:Australia/Melbourne
X-WR-TIMEZONE:Australia/Melbourne
BEGIN:VEVENT
UID:17362@home-ed.vic.edu.au
DTSTART;TZID=Australia/Melbourne:20260423T090000
DTEND;TZID=Australia/Melbourne:20260502T150000
DTSTAMP:20260125T045630Z
URL:https://home-ed.vic.edu.au/events/mittagundi-boys-10-day-camp-14-17yo-
 glen-valley-vic/
SUMMARY:Mittagundi Boys 10 Day Camp 14-17yo (Glen Valley VIC)
DESCRIPTION:Mittagundi Boys 10 Day Camp\nOur 10 day program sees groups of 
 up to 24 young people walk away from electricity and modern comforts\, thr
 ough the Victorian High Country and into the 400 acre farm\, that is Mitta
 gundi. They spend time working together on the farm\, fencing\, growing fo
 od\, milking cows\, working with wood\, steel and wool. They embark on adv
 entures rafting the Mitta Mitta River and abseiling off a local cliff face
  before hiking back to civilisation.\n\nThe atmosphere at Mittagundi is si
 mple\, honest and happy. There are no watches\, no timetables and no money
 . Instead there is an opportunity for young people to live and work togeth
 er with others in an environment where people matter more than anything el
 se.\n\n24 spots only\n\nWHERE: 4385 Omeo Hwy\, Glen Valley VIC 3898 (Meet 
 at Albury Train Station)\nWHEN: 23rd April - 2nd May 2026\n\nCAMP CONTACT:
  Heather | info@mittagundi.org.au\nPARENT ORGANISER: Tessa Rickard } tessa
 rickard@me.com\n\nMORE INFO / BOOKINGS: https://www.mittagundi.org.au/priv
 ate-programs/529boyshomeschoolprogram \n\n
ATTACH;FMTTYPE=image/jpeg:https://home-ed.vic.edu.au/wp-content/uploads/20
 26/01/2026-Boys-Mittagundi.jpg
CATEGORIES:Special Events
LOCATION:Mittagundi Outdoor Education Centre\, 4385 Omeo Hwy\, Glen Valley\
 , Vic\, 3898\, Australia
GEO:-36.8968521;147.46348060000003
X-APPLE-STRUCTURED-LOCATION;VALUE=URI;X-ADDRESS=4385 Omeo Hwy\, Glen Valley
 \, Vic\, 3898\, Australia;X-APPLE-RADIUS=100;X-TITLE=Mittagundi Outdoor Ed
 ucation Centre:geo:-36.8968521,147.46348060000003
END:VEVENT
BEGIN:VTIMEZONE
TZID:Australia/Melbourne
X-LIC-LOCATION:Australia/Melbourne
BEGIN:STANDARD
DTSTART:20260405T020000
TZOFFSETFROM:+1100
TZOFFSETTO:+1000
TZNAME:AEST
END:STANDARD
END:VTIMEZONE
END:VCALENDAR