BEGIN:VCALENDAR
VERSION:2.0
PRODID:-//wp-events-plugin.com//7.2.3.1//EN
TZID:Australia/Melbourne
X-WR-TIMEZONE:Australia/Melbourne
BEGIN:VEVENT
UID:17462@home-ed.vic.edu.au
DTSTART;TZID=Australia/Melbourne:20260422T103000
DTEND;TZID=Australia/Melbourne:20260422T113000
DTSTAMP:20260311T002326Z
URL:https://home-ed.vic.edu.au/events/monster-under-the-couch/
SUMMARY:Monster Under the Couch
DESCRIPTION:Monster Under the Couch\nCreative writing experts at Story Fact
 ory invite you to a highly interactive Zoom session where your imagination
  takes centre stage.\nFor ages 7 - 11.\n\n$5 deposit refundable based on a
 ttendance\n\n\nWednesday 22 April 2026 | 10:30-11:30am\n\nBOOKINGS / MORE 
 INFO: https://www.trybooking.com/events/landing/1549841
ATTACH;FMTTYPE=image/jpeg:https://home-ed.vic.edu.au/wp-content/uploads/20
 26/03/HEN-Online-Monster.png
CATEGORIES:Online Events
END:VEVENT
BEGIN:VTIMEZONE
TZID:Australia/Melbourne
X-LIC-LOCATION:Australia/Melbourne
BEGIN:STANDARD
DTSTART:20260405T020000
TZOFFSETFROM:+1100
TZOFFSETTO:+1000
TZNAME:AEST
END:STANDARD
END:VTIMEZONE
END:VCALENDAR