BEGIN:VCALENDAR
VERSION:2.0
PRODID:-//wp-events-plugin.com//7.2.3.1//EN
TZID:Australia/Melbourne
X-WR-TIMEZONE:Australia/Melbourne
BEGIN:VEVENT
UID:16845@home-ed.vic.edu.au
DTSTART;TZID=Australia/Melbourne:20251217T090000
DTEND;TZID=Australia/Melbourne:20251217T150000
DTSTAMP:20250331T061950Z
URL:https://home-ed.vic.edu.au/events/music-making-and-audio-production-co
 urses-10-brunswick-2025-12-17/
SUMMARY:Music Making and Audio Production Courses 10+ (Brunswick)
DESCRIPTION:Sessions typically run for 2 hours between 9am and 3pm.\n\n$50 
 per hour. Lessons typically run for 2 hours and should be booked in groups
  of 4 or 10. Clients who book 10 sessions secure the final hour for free. 
 In order to make sure my teaching style and content is a good fit for your
  young person the first two lessons of any course offered can be paid for 
 individually at the normal rate. \n\n&nbsp\;\n\nLearn to make\, mix and ma
 ster your own musical creations with Sound Production Solutions.\n\n- SPS 
 caters to young people who want to make music on their own terms by using 
 technology as well as traditional instrumentation.\n\n- SPS offers compreh
 ensive courses on how use modern digital audio workstations\, that cuts th
 rough the confusing labyrinth of sound production information housed on Yo
 utube and the web.\n\n- SPS provides a range of specific genre templates f
 or students to choose from\, so they can begin working with sounds that in
 spire\, from the moment they start creating. ​\n\n- SPS is student led a
 nd caters to and modifies lessons in real time to each student's wants and
  needs.\n\n- SPS gives students the skills to mix and master original comp
 ositions\, enabling them to construct release ready packages.\n\n- SPS off
 ers students a selection of free samples\, digital musical instruments and
  effects to help them continue their music making journey while and long a
 fter they have finished taking lessons.\n\n- SPS provides detailed notes o
 n course content to help learners consolidate their knowledge in their own
  time.\n\n- SPS offers entry level lessons for piano\, music theory and sy
 nthesis to help student understanding and accelerate their ability to work
  quickly and achieve success. ​\n\n- SPS allows for "school can't studen
 ts" to gently re-integrate working with an educational professional prepar
 ed to operate according to their demands.\n\n- SPS is suitable for adults\
 , high school aged students and keen kids 10+ years and older.\n\nSteve Fo
 rd: 0411 576 334\nwww.soundproductionsolutions.com\nsoundproductionsolutio
 ns@protonmail.com\n\n34 Moreland Rd Brunswick. \n\n\n\nMarch: 4+5\, 11+12\
 , 18+19\, 25+26. April: 1+2\, 22+23\, 29+30\, May 6+7\, 13+14\, 20+21\, 27
 \,28. June: 3+4\, 10+11\, 17+18\, 24+25. July 1+2\, 7\,8\,9\,10\,1\, 14\,1
 5\,16\,17\,18\,19\, 22+23\, 29+30. August: 5+6\, 12+13\, 19+20\, 26+27\, S
 eptember\, 2+3\, 9+10\, 16+17\, 22\, 23\, 24\, 25\, 26\, 29\, 30. October:
  1\,2\,3\, 7+8\,14+15\, 21+22\, 28+29. November: 5\, 11+12\, 18+19\, 25+26
 . December 2+3\, 9+10\, 16+17. 
ATTACH;FMTTYPE=image/jpeg:https://home-ed.vic.edu.au/wp-content/uploads/20
 25/03/SPS-flyer-revised.jpg
CATEGORIES:Regular Classes
LOCATION:Sound Production Solutions\, 34 Moreland Rd\, Brunswick\, Australi
 a
GEO:-37.757035;144.976598
X-APPLE-STRUCTURED-LOCATION;VALUE=URI;X-ADDRESS=34 Moreland Rd\, Brunswick\
 , Australia;X-APPLE-RADIUS=100;X-TITLE=Sound Production Solutions:geo:-37.
 757035,144.976598
END:VEVENT
BEGIN:VTIMEZONE
TZID:Australia/Melbourne
X-LIC-LOCATION:Australia/Melbourne
BEGIN:DAYLIGHT
DTSTART:20251005T030000
TZOFFSETFROM:+1000
TZOFFSETTO:+1100
TZNAME:AEDT
END:DAYLIGHT
END:VTIMEZONE
END:VCALENDAR