BEGIN:VCALENDAR
VERSION:2.0
PRODID:-//wp-events-plugin.com//7.2.3.1//EN
TZID:Australia/Melbourne
X-WR-TIMEZONE:Australia/Melbourne
BEGIN:VEVENT
UID:17246@home-ed.vic.edu.au
DTSTART;TZID=Australia/Melbourne:20251209T110000
DTEND;TZID=Australia/Melbourne:20251209T120000
DTSTAMP:20250928T015448Z
URL:https://home-ed.vic.edu.au/events/ninja-warrior-essendon-north-2025-10
 -14-2025-10-28-2025-11-11-2025-11-25-2025-12-09/
SUMMARY:Ninja Warrior (Essendon North)
DESCRIPTION:Fighting Lyons Home School Ninja Sessions\n📣  New for our h
 ome school community!\nStarting Tuesday\, Oct 14 we’re running Home Scho
 ol Ninja Sessions every second Tuesday 💥\n\nBreak up your day with an h
 our of fun at the gym – swing\, climb\, jump and challenge yourself on o
 ur ninja obstacles!\n\n✅ 1-hour session\n✅ $20 per person\n✅ Come so
 lo or bring a group of friends\n\nOctober Dates: 14\, 28\nNovember Dates: 
 11\, 25\nDecember Date: 9\n\n11am - 12pm\n\n70a Keilor Road\, Essendon Nor
 th\n\n👉 Spots are limited – book now via Momence and add some ninja f
 un to your home school routine!\n\nBOOKINGS: https://momence.com/Fighting-
 Lyons/Home-School-Session/123369590 \n\nContact: Askfightinglyons@gmail.c
 om \n\nWebsite: fightinglyons.com.au\n\n&nbsp\;
ATTACH;FMTTYPE=image/jpeg:https://home-ed.vic.edu.au/wp-content/uploads/20
 25/09/2025-Fighting-Lyons.jpg
CATEGORIES:Regular Classes
LOCATION:Fighting Lyons\, 70A Keilor Rd\,  Essendon North\, VIC\, 3041\, Au
 stralia
GEO:-37.742595;144.906349
X-APPLE-STRUCTURED-LOCATION;VALUE=URI;X-ADDRESS=70A Keilor Rd\,  Essendon N
 orth\, VIC\, 3041\, Australia;X-APPLE-RADIUS=100;X-TITLE=Fighting Lyons:ge
 o:-37.742595,144.906349
END:VEVENT
BEGIN:VTIMEZONE
TZID:Australia/Melbourne
X-LIC-LOCATION:Australia/Melbourne
BEGIN:DAYLIGHT
DTSTART:20251005T030000
TZOFFSETFROM:+1000
TZOFFSETTO:+1100
TZNAME:AEDT
END:DAYLIGHT
END:VTIMEZONE
END:VCALENDAR