BEGIN:VCALENDAR
VERSION:2.0
PRODID:-//wp-events-plugin.com//7.2.3.1//EN
TZID:Australia/Melbourne
X-WR-TIMEZONE:Australia/Melbourne
BEGIN:VEVENT
UID:17509@home-ed.vic.edu.au
DTSTART;TZID=Australia/Melbourne:20260513T100000
DTEND;TZID=Australia/Melbourne:20260513T114500
DTSTAMP:20260406T095223Z
URL:https://home-ed.vic.edu.au/events/online-art-the-artist-coop-term-2-oi
 l-painting-10-17yrs-4/
SUMMARY:ONLINE ART: The Artist Coop - TERM 2 - Oil Painting  (10 - 17yrs)
DESCRIPTION:ONLINE ART: The Artist Coop - TERM 2 - Oil Painting\nExcitedly 
 this term we introduce our student artists to ONLINE “Oil Painting”.\n
 This online class is structured to explore colour\, light\, texture\, and 
 composition and it builds towards a final artwork with 1 private consult a
 nd group presentation.\n\n\nI will be presenting from the studio\, The Art
 ist Coop \, Montsalvat 7 Hillcrest Ave\, Eltham Vic 3095\n\nTerm Dates: Ap
 ril 22nd\, 29th\, May 6th\, 13th\, 20th &amp\; 27th + 1 private consult an
 d TBA date End Term \nCOST: $220 per term. Sibling $200\n\nClass ZOOM Onli
 ne 10 - 17yrs (parental support may be necessary)\n\n\n\n\nTIMES: A link l
 asts 40 mins (only) and may be reused again after a short break\n\n\nWe st
 art: 10am - 10.30am with focused explanation and example by Jo\nThen 10.30
  - 11.15 am students go away for exploration or example\nLastly 11.15  - 
 11.45 am relink discussion and comments\n\nONLINE all materials supplied b
 y student's familiesBookings essential - call or email Jo directly mob: 04
 14800411\nEmail: Jo@theartistcoop.com.au\nBook on website: www.theartistc
 oop.com.au 
ATTACH;FMTTYPE=image/jpeg:https://home-ed.vic.edu.au/wp-content/uploads/20
 26/04/2026-Artists-Coop.jpg
CATEGORIES:Online Events
END:VEVENT
BEGIN:VTIMEZONE
TZID:Australia/Melbourne
X-LIC-LOCATION:Australia/Melbourne
BEGIN:STANDARD
DTSTART:20260405T020000
TZOFFSETFROM:+1100
TZOFFSETTO:+1000
TZNAME:AEST
END:STANDARD
END:VTIMEZONE
END:VCALENDAR