BEGIN:VCALENDAR
VERSION:2.0
PRODID:-//wp-events-plugin.com//7.2.3.1//EN
TZID:Australia/Melbourne
X-WR-TIMEZONE:Australia/Melbourne
BEGIN:VEVENT
UID:17467@home-ed.vic.edu.au
DTSTART;TZID=Australia/Melbourne:20260330T100000
DTEND;TZID=Australia/Melbourne:20260330T111500
DTSTAMP:20260317T113500Z
URL:https://home-ed.vic.edu.au/events/roller-skating-classes-for-homeschoo
 lers-preston-2/
SUMMARY:Roller skating classes for homeschoolers (Preston)
DESCRIPTION:Daytime Programs for Home-Educating Communities &amp\; Families
 \nMy name is Belle and I run Princess on Skates\, a mobile roller skating 
 program in Melbourne.\nWe have recently started a relaxed daytime skate c
 lass for homeschool families in Preston on Mondays at 10am.\n• A guided
  beginner-friendly lesson\n• Skills adapted for all ages (little kids th
 rough to adults)\n• Games\, music and dancing\n• Plenty of supervised 
 free-rolling time in a large safe space\n\nFuture Event Dates: April 20 &a
 mp\; 27\n\nMORE INFO / BOOKINGS: https://www.princessonskates.com.au/pop-u
 p-events/preston-family-hxa22-3n4jd \n\nCOST: $20 per skater\n$5 skate h
 ire (we have sizes for kids and adults)\nFamily discounts available.\n\nBY
 O roller skates and inline blades welcome.\n(No scooters or other wheeled 
 equipment please — they behave very differently on the floor and create 
 safety issues.)\n\nIf there’s enough interest\, we’d love to make this
  a regular daytime homeschool session.\n\nSpots are limited so everyone ha
 s space and support while learning.
ATTACH;FMTTYPE=image/jpeg:https://home-ed.vic.edu.au/wp-content/uploads/20
 26/03/2026-PrincessonRollerskate.jpg
CATEGORIES:Regular Classes
LOCATION:The Factory VRDL\, 2 Stott Street\, Preston\, Australia
GEO:-37.7481;144.993875
X-APPLE-STRUCTURED-LOCATION;VALUE=URI;X-ADDRESS=2 Stott Street\, Preston\, 
 Australia;X-APPLE-RADIUS=100;X-TITLE=The Factory VRDL:geo:-37.7481,144.993
 875
END:VEVENT
BEGIN:VTIMEZONE
TZID:Australia/Melbourne
X-LIC-LOCATION:Australia/Melbourne
BEGIN:DAYLIGHT
DTSTART:20251005T030000
TZOFFSETFROM:+1000
TZOFFSETTO:+1100
TZNAME:AEDT
END:DAYLIGHT
END:VTIMEZONE
END:VCALENDAR