BEGIN:VCALENDAR
VERSION:2.0
PRODID:-//wp-events-plugin.com//7.2.3.1//EN
TZID:Australia/Melbourne
X-WR-TIMEZONE:Australia/Melbourne
BEGIN:VEVENT
UID:17416@home-ed.vic.edu.au
DTSTART;TZID=Australia/Melbourne:20260313T100000
DTEND;TZID=Australia/Melbourne:20260313T113000
DTSTAMP:20260211T081716Z
URL:https://home-ed.vic.edu.au/events/social-gaming-group-minecraft-8-14yo
 -5/
SUMMARY:Social Gaming Group Minecraft (8 - 14yo)
DESCRIPTION:Social Gaming Group Minecraft (8 - 14yo)\nLet’s Game social g
 aming sessions are about more than play\, they’re about connection\, con
 fidence\, and real-world skills (with a whole lot of fun along the way).\n
 In each online session\, children jump into guided gameplay in a safe\, su
 pervised\, and supportive space. Our moderators actively encourage childre
 n to talk\, collaborate\, and include others\, helping them practice skill
 s like:\n\n 	Teamwork &amp\; communication (planning\, sharing ideas\, tak
 ing turns\, using voice chat respectfully)\n 	Problem-solving &amp\; resil
 ience (trying again\, adapting strategies\, handling setbacks)\n 	Leadersh
 ip &amp\; cooperation (supporting others\, making group decisions\, learni
 ng fair play)\n 	Friendship-building &amp\; social confidence (joining in\
 , staying connected\, feeling like they belong)\n\nSessions are currently 
 open to children aged 8–14 and are joined from the comfort of home.\nTer
 m 1 requirements: children will need access to Minecraft and Discord (voic
 e chat).\n\nWHEN: Fridays 10:00-11:30am \n\nCOST: $90 full term or $15 ca
 sual drop-in\n\n 6/02/26\, 13/02/26\, 20/02/26\, 27/02/26\, 6/03/26\, 13/0
 3/26\, 20/03/26\, 27/03/26\n\nBOOKINGS: https://www.letsgame.online/produc
 t-page/minecraft-bedrock \n\nCONTACT:  Tara\nEmail: connect@letsgame.onl
 ine\nWebsite: www.letsgame.online
ATTACH;FMTTYPE=image/jpeg:https://home-ed.vic.edu.au/wp-content/uploads/20
 26/02/2026-Lets-Game-Minecraft.jpg
CATEGORIES:Online Events
END:VEVENT
BEGIN:VTIMEZONE
TZID:Australia/Melbourne
X-LIC-LOCATION:Australia/Melbourne
BEGIN:DAYLIGHT
DTSTART:20251005T030000
TZOFFSETFROM:+1000
TZOFFSETTO:+1100
TZNAME:AEDT
END:DAYLIGHT
END:VTIMEZONE
END:VCALENDAR