BEGIN:VCALENDAR
VERSION:2.0
PRODID:-//wp-events-plugin.com//7.2.3.1//EN
TZID:Australia/Melbourne
X-WR-TIMEZONE:Australia/Melbourne
BEGIN:VEVENT
UID:17526@home-ed.vic.edu.au
DTSTART;TZID=Australia/Melbourne:20260526T104500
DTEND;TZID=Australia/Melbourne:20260526T140000
DTSTAMP:20260413T101042Z
URL:https://home-ed.vic.edu.au/events/st-john-ambulance-first-aid-training
 -5y-13y-healseville/
SUMMARY:St John Ambulance first aid training (5y-13y\, Healseville)
DESCRIPTION:This event is part of a state-wide series. To book this event\,
  or see all locations and dates\, visit www.trybooking.com/DLEVG \n\nHEN 
 offers a range of 45-minute first aid training sessions across Victoria fo
 r primary-aged children\, facilitated by St John Ambulance and teaching th
 e importance of First Aid and what to do in an event of an emergency.\n\nT
 he knowledge and skills gained from the program will develop kids' First A
 id awareness\, and contribute to building a more resilient community. Brin
 ging to life the importance of First Aid and what to do in an emergency (i
 ncluding calling 000 and performing CPR)\, the interactive games\, Storyti
 me and Action Plan scenarios make the program more enjoyable than ever bef
 ore. The learning is age-appropriate\, with kids divided into three age gr
 oups\, &amp\; taught a selected learning module (see full details below).\
 n\nKids are encouraged to wear clothing suitable for floor work (e.g. pant
 s or shorts)\, &amp\; should bring a pen / pencil &amp\; paper.\n\nThese s
 essions are provided for free by St John. A $5 booking fee per child per s
 ession covers venue hire\, with any surplus funds donated to St John Ambul
 ance. If a venue is hired for free\, all attending families will be reimbu
 rsed in full.\n\nThis event is aimed at primary-aged children\, however ju
 nior secondary-aged kids who have rudimentary first aid skills and knowled
 ge are welcome to join as well.\n\n&nbsp\;\nTuesday\, 26th May: Healesvill
 e\n\n 	\nVenue: Healesville Uniting Church\,  286 Maroondah Hwy\n\n 	\n5y
 -8y - bones\, bumps &amp\; bandages: 10.45am\, 11am start\n\n 	\n8y-10y -
  snake bites: 11.45am arrival\, 12pm start\n\n 	\n10y+ - anaphyalxis: 12.4
 5pm arrival\, 1pm start\n\n
ATTACH;FMTTYPE=image/jpeg:https://home-ed.vic.edu.au/wp-content/uploads/20
 26/04/st-john.png
CATEGORIES:Special Events
LOCATION:Healeville Uniting Church\, 286 Maroondah Hwy\, Healesville\, Vic\
 , 3777\, Australia
GEO:-37.653885;145.517983
X-APPLE-STRUCTURED-LOCATION;VALUE=URI;X-ADDRESS=286 Maroondah Hwy\, Healesv
 ille\, Vic\, 3777\, Australia;X-APPLE-RADIUS=100;X-TITLE=Healeville Unitin
 g Church:geo:-37.653885,145.517983
END:VEVENT
BEGIN:VTIMEZONE
TZID:Australia/Melbourne
X-LIC-LOCATION:Australia/Melbourne
BEGIN:STANDARD
DTSTART:20260405T020000
TZOFFSETFROM:+1100
TZOFFSETTO:+1000
TZNAME:AEST
END:STANDARD
END:VTIMEZONE
END:VCALENDAR