BEGIN:VCALENDAR
VERSION:2.0
PRODID:-//wp-events-plugin.com//7.2.3.1//EN
TZID:Australia/Melbourne
X-WR-TIMEZONE:Australia/Melbourne
BEGIN:VEVENT
UID:17438@home-ed.vic.edu.au
DTSTART;TZID=Australia/Melbourne:20260330T110000
DTEND;TZID=Australia/Melbourne:20260330T120000
DTSTAMP:20260216T031311Z
URL:https://home-ed.vic.edu.au/events/teen-trampolining-class-13-bounce-gl
 en-iris-5/
SUMMARY:Teen Trampolining Class 13+ Bounce (Glen Iris)
DESCRIPTION:Weekly Trampolining class for ages 13+ (Group ranges 13 - 15)\n
 \nManaged through Bounce Flight Squad - a trampoline based development pro
 gram designed for all levels to learn freestyle trampoline skills and tric
 ks.\nIncludes unlimited access to BOUNCE and discounts.\n\nBring a water b
 ottle. Bring or buy your own lunch. Socks provided for class members. Pare
 nts are responsible for their children.\n\nWHEN: Mondays at 11:00am - 12:0
 0pm\nFebruary 16th\, 23rd\nMarch 2nd\, 16th\, 23rd\, 30th\n\nCOST: $31\n\n
 WHERE: Bounce Glen Iris 2 Weir Street\, Glen Iris\, VIC 3146\n\nMelbourne 
 Bayside Teens (13 - 16): https://www.facebook.com/groups/921895355621148\n
 \n&nbsp\;\n\n&nbsp\;
ATTACH;FMTTYPE=image/jpeg:https://home-ed.vic.edu.au/wp-content/uploads/20
 26/02/2026-Teen-Bounce.jpg
CATEGORIES:Regular Classes
LOCATION:Bounce Glen Iris\, 2 Weir St\, Glen Iris\, Australia
GEO:-37.850169;145.045289
X-APPLE-STRUCTURED-LOCATION;VALUE=URI;X-ADDRESS=2 Weir St\, Glen Iris\, Aus
 tralia;X-APPLE-RADIUS=100;X-TITLE=Bounce Glen Iris:geo:-37.850169,145.0452
 89
END:VEVENT
BEGIN:VTIMEZONE
TZID:Australia/Melbourne
X-LIC-LOCATION:Australia/Melbourne
BEGIN:DAYLIGHT
DTSTART:20251005T030000
TZOFFSETFROM:+1000
TZOFFSETTO:+1100
TZNAME:AEDT
END:DAYLIGHT
END:VTIMEZONE
END:VCALENDAR