BEGIN:VCALENDAR
VERSION:2.0
PRODID:-//wp-events-plugin.com//7.2.3.1//EN
TZID:Australia/Melbourne
X-WR-TIMEZONE:Australia/Melbourne
BEGIN:VEVENT
UID:17503@home-ed.vic.edu.au
DTSTART;TZID=Australia/Melbourne:20260622T133000
DTEND;TZID=Australia/Melbourne:20260622T150000
DTSTAMP:20260406T090020Z
URL:https://home-ed.vic.edu.au/events/the-artist-coop-art-oil-painting-ter
 m-2-eltham-8-13yo-make-up-lesson/
SUMMARY:The Artist Coop: ART Oil Painting - Term 2 (Eltham) 8-13yo - Make U
 p Lesson
DESCRIPTION:The Artist Coop: ART Oil Painting - Term 2 (Eltham) 8-13yo - Ma
 ke Up Lesson\nExcitedly this term we introduce our student artists ages 8 
 - 13 yrs\, to “Oil Painting”.\nThe class is set in a real artist's stu
 dio and we'll explore the medium:\n\n\n 	brush techniques\n 	colour mixing
 \n 	texture\n 	building a picture\, and \n 	personal style.\n\nIt's a wond
 erful medium!!\n\nMaterials included (odourless solvents).  Places go fas
 t!\n\n$250 per person\n\nWHEN: 1.30pm - 3pm\nTerm 2 dates: 20th of April\,
  4th\, 11th\, 18th and 25th of May and the 1st\, 8th\,15th of June\, 22nd 
 of June make up day\n\nWHERE: The Artist Coop Montsalvat | 11 Hillcrest Av
 e Eltham\, 3095\nCONTACT:  jo@the artistcoop.com.au\n\nhttps://theartistc
 oop.com.au
ATTACH;FMTTYPE=image/jpeg:https://home-ed.vic.edu.au/wp-content/uploads/20
 26/04/2026-Term-2-Artists-Coop.jpg
CATEGORIES:Regular Classes
LOCATION:The Artist Coop\, Monsalvat - 7 Hillcrest Avenue\, Eltham\, Austra
 lia
GEO:-37.728057;145.15359
X-APPLE-STRUCTURED-LOCATION;VALUE=URI;X-ADDRESS=Monsalvat - 7 Hillcrest Ave
 nue\, Eltham\, Australia;X-APPLE-RADIUS=100;X-TITLE=The Artist Coop:geo:-3
 7.728057,145.15359
END:VEVENT
BEGIN:VTIMEZONE
TZID:Australia/Melbourne
X-LIC-LOCATION:Australia/Melbourne
BEGIN:STANDARD
DTSTART:20260405T020000
TZOFFSETFROM:+1100
TZOFFSETTO:+1000
TZNAME:AEST
END:STANDARD
END:VTIMEZONE
END:VCALENDAR