BEGIN:VCALENDAR
VERSION:2.0
PRODID:-//wp-events-plugin.com//7.2.3.1//EN
TZID:Australia/Melbourne
X-WR-TIMEZONE:Australia/Melbourne
BEGIN:VEVENT
UID:17494@home-ed.vic.edu.au
DTSTART;TZID=Australia/Melbourne:20260622T113000
DTEND;TZID=Australia/Melbourne:20260622T130000
DTSTAMP:20260406T084433Z
URL:https://home-ed.vic.edu.au/events/the-artist-coop-oil-painting-term-2-
 make-up-lesson-eltham/
SUMMARY:The Artist Coop - Oil painting Term 2 - Make Up Lesson (Eltham)
DESCRIPTION:Home Ed - 2 Oil painting Term 2 (Make Up Lesson)\nExcitedly thi
 s term we introduce our student artists ages 12 - 17yrs\, to “Oil Painti
 ng”.\nThe class is set in a real artist's studio and we'll explore the m
 edium:\n\n\n 	brush techniques\n 	colour mixing\n 	texture\n 	building a p
 icture\, and \n 	personal style.\n\nIt's a wonderful medium!!\n\nMaterials
  included (odourless solvents).  Places go fast!\n\n$250 per person\n\nWH
 EN: 11.30 - 1pm\nTerm 2 dates: 20th of April\, 4th\, 11th\, 18th and 25th 
 of May and the 1st\, 8th\,15th of June\, 22nd of June make up day\n\nWHERE
 : The Artist Coop Montsalvat | 11 Hillcrest Ave Eltham\, 3095\nCONTACT:  
 jo@the artistcoop.com.au\n\nhttps://theartistcoop.com.au
ATTACH;FMTTYPE=image/jpeg:https://home-ed.vic.edu.au/wp-content/uploads/20
 26/04/2026-Term-2-Artists-Coop.jpg
CATEGORIES:Regular Classes
LOCATION:The Artist Coop\, Monsalvat - 7 Hillcrest Avenue\, Eltham\, Austra
 lia
GEO:-37.728057;145.15359
X-APPLE-STRUCTURED-LOCATION;VALUE=URI;X-ADDRESS=Monsalvat - 7 Hillcrest Ave
 nue\, Eltham\, Australia;X-APPLE-RADIUS=100;X-TITLE=The Artist Coop:geo:-3
 7.728057,145.15359
END:VEVENT
BEGIN:VTIMEZONE
TZID:Australia/Melbourne
X-LIC-LOCATION:Australia/Melbourne
BEGIN:STANDARD
DTSTART:20260405T020000
TZOFFSETFROM:+1100
TZOFFSETTO:+1000
TZNAME:AEST
END:STANDARD
END:VTIMEZONE
END:VCALENDAR