BEGIN:VCALENDAR
VERSION:2.0
PRODID:-//wp-events-plugin.com//7.2.3.1//EN
TZID:Australia/Melbourne
X-WR-TIMEZONE:Australia/Melbourne
BEGIN:VEVENT
UID:17424@home-ed.vic.edu.au
DTSTART;TZID=Australia/Melbourne:20260319T130000
DTEND;TZID=Australia/Melbourne:20260319T160000
DTSTAMP:20260211T090415Z
URL:https://home-ed.vic.edu.au/events/trampolining-at-bounce-glen-iris-6/
SUMMARY:Trampolining at Bounce (Glen Iris)
DESCRIPTION:Trampolining at Bounce (Glen Iris)\nThis is a social meet-up fo
 r home schoolers. Currently we meet at Bounce Glen Iris every Thursday.\n\
 nAll ages welcome.\n\nTIME: 1pm to 4pm\n\nCOST: $25 for a two hour session
  (refer to bounce website)\n\nWHERE: Bounce Glen Iris | 2 Weir Street\, Gl
 en Iris\, Victoria\, 3146\, Australia\n\nBOOKINGS: https://bounceinc.com.a
 u/venues/glen-iris/\n\n&nbsp\;
ATTACH;FMTTYPE=image/jpeg:https://home-ed.vic.edu.au/wp-content/uploads/20
 26/02/A-social-meet-up-for-home-schoolers.png
CATEGORIES:Regular Classes
LOCATION:Bounce Glen Iris\, 2 Weir St\, Glen Iris\, Australia
GEO:-37.850169;145.045289
X-APPLE-STRUCTURED-LOCATION;VALUE=URI;X-ADDRESS=2 Weir St\, Glen Iris\, Aus
 tralia;X-APPLE-RADIUS=100;X-TITLE=Bounce Glen Iris:geo:-37.850169,145.0452
 89
END:VEVENT
BEGIN:VTIMEZONE
TZID:Australia/Melbourne
X-LIC-LOCATION:Australia/Melbourne
BEGIN:DAYLIGHT
DTSTART:20251005T030000
TZOFFSETFROM:+1000
TZOFFSETTO:+1100
TZNAME:AEDT
END:DAYLIGHT
END:VTIMEZONE
END:VCALENDAR