BEGIN:VCALENDAR
VERSION:2.0
PRODID:-//wp-events-plugin.com//7.2.3.1//EN
TZID:Australia/Melbourne
X-WR-TIMEZONE:Australia/Melbourne
BEGIN:VEVENT
UID:17318@home-ed.vic.edu.au
DTSTART;TZID=Australia/Melbourne:20260315T000000
DTEND;TZID=Australia/Melbourne:20260319T000000
DTSTAMP:20251215T121020Z
URL:https://home-ed.vic.edu.au/events/warrnambool-home-ed-camp-2026/
SUMMARY:Warrnambool Home Ed camp 2026
DESCRIPTION:Warrnambool Camp 2026 – Save the Date!\nSunday 15 – Thursda
 y 19 March 2026\nWarrnambool Surfside Caravan Park\nJoin home-educating fa
 milies from across Victoria (and beyond) for a relaxed\, coastal camp focu
 sed on connection\, community\, and fun by the sea.\n\nAccommodation &amp\
 ; Booking\n\n 	15% group discount when booking (mention the Victorian home
 school group)\n 	Family rate covers any number of children (immediate fami
 ly only)\n 	Approx. costs:\n\n 	Unpowered site: ~$45/night\n 	Powered site
 : ~$56/night\n\n\n 	Request sites in M\, N\, T or L sections\n 	If you boo
 ked last year\, you must rebook (the park will not contact you)\n\nBooking
 s can be made directly with Surfside Caravan Park on (03) 5559 4700.\nWhat
  to Expect\nPlenty of unstructured fun including beach play\, swimming\, b
 iking and skating along the coastal track\, skate park and BMX track\, cra
 fts\, games\, kite flying\, Nerf wars\, op shopping\, cafés\, playgrounds
  (Lake Pertobe)\, BBQs\, shared meals\, and lots of time to connect with n
 ew and old friends in a like-minded community.\n\nOptional Activities (gro
 up discounts where possible)\n\n 	Surfing lessons\n 	Flagstaff Hill Mariti
 me Village &amp\; sound/light show\n 	Tower Hill volcano tour\n 	Wildlife 
 sanctuary tour with close encounters\n 	Drum-making\, dance and magic work
 shops\n 	Bush dance / hoedown\n 	Deep Blue Hot Springs nearby\n\nProposed 
 Schedule (subject to change)\n\n 	Sunday: Meet &amp\; greet\n 	Monday: Fla
 gstaff Hill visit\n 	Tuesday: Surfing lessons + evening bush dance\n 	Wedn
 esday: Wildlife sanctuary tour\n\nFor updates and discussion\, join the Te
 legram group:\nhttps://t.me/Homeschool_Camps_Vic\n\nMore details to come 
 – we hope to see you there!\n\n
ATTACH;FMTTYPE=image/jpeg:https://home-ed.vic.edu.au/wp-content/uploads/20
 25/12/Warrnambool-Camp-2026-3.png
CATEGORIES:Special Events
LOCATION:Warrnambool Surfside Caravan Park\, 120 Pertobe Rd\, Warrnambool\,
  VIC\, 3280\, Australia
GEO:-38.39213;142.486858
X-APPLE-STRUCTURED-LOCATION;VALUE=URI;X-ADDRESS=120 Pertobe Rd\, Warrnamboo
 l\, VIC\, 3280\, Australia;X-APPLE-RADIUS=100;X-TITLE=Warrnambool Surfside
  Caravan Park:geo:-38.39213,142.486858
END:VEVENT
BEGIN:VTIMEZONE
TZID:Australia/Melbourne
X-LIC-LOCATION:Australia/Melbourne
BEGIN:DAYLIGHT
DTSTART:20251005T030000
TZOFFSETFROM:+1000
TZOFFSETTO:+1100
TZNAME:AEDT
END:DAYLIGHT
END:VTIMEZONE
END:VCALENDAR