BEGIN:VCALENDAR
VERSION:2.0
PRODID:-//wp-events-plugin.com//7.2.3.1//EN
TZID:Australia/Melbourne
X-WR-TIMEZONE:Australia/Melbourne
BEGIN:VEVENT
UID:17061@home-ed.vic.edu.au
DTSTART;TZID=Australia/Melbourne:20251124T000000
DTEND;TZID=Australia/Melbourne:20251128T000000
DTSTAMP:20250623T233103Z
URL:https://home-ed.vic.edu.au/events/wollangarra-5-day-homeschool-stage-1
 -14-18yo-wollangarra/
SUMMARY:Wollangarra 5 Day Homeschool - Stage 1 - 14-18yo (Wollangarra)
DESCRIPTION:November 24th to 28th\n\n$550\n\nOur 5 day homeschool program i
 s designed for home schoolers seeking hands-on learning experiences. It’
 s unique\, purposeful and life changing! This program offers a unique oppo
 rtunity for young people to benefit from the social\, community\, and envi
 ronmental benefits of outdoor education and make friends within the homesc
 hooling community.\n\nHomeschool programs are 5 to 10 days long\, and incl
 udes a 3 day hike in the remote Victorian High Country as well as a range 
 of activities from farm work\, cooking and gardening\, to conservation pro
 jects in our local area.\n\nThe program will be a mixture of purposeful ha
 nds-on conservation projects and an epic adventure into the mountains! And
 \, of course\, we’ll be returning to the homestead for a hot shower and 
 our classic Wollangarra feast!\n\nWe recommend booking early for our Homes
 chool Program as there are limited places.\n\nAges: 14 – 18\n\nWollangar
 ra - 03 5148 0492\n\n3439 Heyfield-Licola Road\n\nhttps://wollangarra.org/
 product/5-day-homeschool-program/
CATEGORIES:Special Events
LOCATION:Wollangarra Outdoor Education Centre\, 3439 Heyfield-Licola Road\,
  Licola\, Victoria\, 3858\, Australia
GEO:-37.662642;146.645915
X-APPLE-STRUCTURED-LOCATION;VALUE=URI;X-ADDRESS=3439 Heyfield-Licola Road\,
  Licola\, Victoria\, 3858\, Australia;X-APPLE-RADIUS=100;X-TITLE=Wollangar
 ra Outdoor Education Centre:geo:-37.662642,146.645915
END:VEVENT
BEGIN:VTIMEZONE
TZID:Australia/Melbourne
X-LIC-LOCATION:Australia/Melbourne
BEGIN:DAYLIGHT
DTSTART:20251005T030000
TZOFFSETFROM:+1000
TZOFFSETTO:+1100
TZNAME:AEDT
END:DAYLIGHT
END:VTIMEZONE
END:VCALENDAR